BEGIN:VCALENDAR
VERSION:2.0
PRODID:-//Helensville Community News - ECPv4.6.25//NONSGML v1.0//EN
CALSCALE:GREGORIAN
METHOD:PUBLISH
X-WR-CALNAME:Helensville Community News
X-ORIGINAL-URL:https://helensvillecommunitynews.co.nz
X-WR-CALDESC:Events for Helensville Community News
BEGIN:VEVENT
DTSTART;TZID=Pacific/Auckland:20170831T180000
DTEND;TZID=Pacific/Auckland:20170831T220000
DTSTAMP:20260424T220711
CREATED:20170802T012315Z
LAST-MODIFIED:20170802T012315Z
UID:6033-1504202400-1504216800@helensvillecommunitynews.co.nz
SUMMARY:RSA Grand Quiz Night
DESCRIPTION:All Welcome  Meals start at 6:00 Quiz starts at 7:00.  Raffles and full bar service  Teams of six Admission $10 per person. Come and support the RSA and check out the updated RSA rooms. \n
URL:https://helensvillecommunitynews.co.nz/event/rsa-grand-quiz-night/
LOCATION:Kaipara Memorial RSA\, 49 Commercial Road\, Helensville\, Auckland\, 0874\, New Zealand
CATEGORIES:Quiz Night
END:VEVENT
END:VCALENDAR