BEGIN:VCALENDAR
VERSION:2.0
PRODID:-//Helensville Community News - ECPv4.6.25//NONSGML v1.0//EN
CALSCALE:GREGORIAN
METHOD:PUBLISH
X-WR-CALNAME:Helensville Community News
X-ORIGINAL-URL:https://helensvillecommunitynews.co.nz
X-WR-CALDESC:Events for Helensville Community News
BEGIN:VEVENT
DTSTART;TZID=Pacific/Auckland:20230923T100000
DTEND;TZID=Pacific/Auckland:20230923T120000
DTSTAMP:20260425T013326
CREATED:20230831T233556Z
LAST-MODIFIED:20230831T233556Z
UID:11043-1695463200-1695470400@helensvillecommunitynews.co.nz
SUMMARY:South Head Road Side Clean Up
DESCRIPTION:Annual Roadside Clean Up\, followed by a BBQ at Waioneke School. \nWhere: South Head Road\, a list of coordinators will be published on facebook\, our website https://www.southkaiparalandcare.org/events and a flier in your letterbox with contact details and meeting points. \nWhy: care for our environment\, meet local likeminded people. \nBRING: a bag\, gloves and drink.  Wear covered sturdy footwear and suitable\, light / bright coloured clothing so you can be easily seen\, and don’t forget a sunhat or raincoat! \nChildren are welcome but must have a parent or guardian supervise them at all times and be responsible for their safety \nBE ALERT AND KEEP SAFE ON OUR ROADSIDE \nWet Weather - If the weather appears too adverse a decision will be made as early as possible. Please contact your Team Leader if in doubt. \nImportant - South Kaipara Landcare will undertake to ensure that all reasonable safety measures are in place to keep people safe and will not be responsible for persons who do not attend the team leader safety briefings prior to the activity. \n
URL:https://helensvillecommunitynews.co.nz/event/south-head-road-side-clean-up/
LOCATION:South Head Road
CATEGORIES:Clean Up
END:VEVENT
END:VCALENDAR