BEGIN:VCALENDAR
VERSION:2.0
PRODID:-//Helensville Community News - ECPv4.6.25//NONSGML v1.0//EN
CALSCALE:GREGORIAN
METHOD:PUBLISH
X-WR-CALNAME:Helensville Community News
X-ORIGINAL-URL:https://helensvillecommunitynews.co.nz
X-WR-CALDESC:Events for Helensville Community News
BEGIN:VEVENT
DTSTART;TZID=Pacific/Auckland:20180210T110000
DTEND;TZID=Pacific/Auckland:20180210T150000
DTSTAMP:20260425T003119
CREATED:20180118T014956Z
LAST-MODIFIED:20180118T014956Z
UID:6514-1518260400-1518274800@helensvillecommunitynews.co.nz
SUMMARY:South Kaipara clean up day
DESCRIPTION:Christina Norton from South Head was regularly doing beach clean ups with her friends. Because of the huge mass of rubbish Christina decided to create a Facebook page to help encourage others to stop littering and help keep our beaches clean by creating events for people to meet up\, do their bit and clean the beach Saturday 15th January was the groups official cleanup day\, “It was a stunning day! I met lots of amazing people\, we filled 2 trailers and a Ute then had a BBQ and went for a swim. We had locals from South head / Whangaparoa and even as far as One Tree Hill!!”\nJoin facebook page South Kaipara clean ups for update on future beach clean up events. Anyone can come along\, many hands make light work! Our next Clean Up day is Saturday 10th February. Join our even on Facebook to register and get reminders.\nThanks to South Kaipara Landcare for donation for rubbish disposal / Rugged Life for Footage/ Streetworx for disposal & bins\, Helensville Community Recycling Centre & to everyone that came out to help!\nIf anyone wants to donate gloves\, bags\, sunblock or anything along those lines please contact Christina Norton on Facebook South Kaipara Clean Ups or Email christinaandriley@hotmail.com \n
URL:https://helensvillecommunitynews.co.nz/event/south-kaipara-clean-up-day/
LOCATION:Muriwai Beach\, Wilson Road Cut Out\, Muriwai Beach\, New Zealand
CATEGORIES:Community Event,FREE EVENTS
ORGANIZER;CN="Christina%20Norton":MAILTO:christinaandriley@hotmail.com
END:VEVENT
END:VCALENDAR