BEGIN:VCALENDAR
VERSION:2.0
PRODID:-//Helensville Community News - ECPv4.6.25//NONSGML v1.0//EN
CALSCALE:GREGORIAN
METHOD:PUBLISH
X-WR-CALNAME:Helensville Community News
X-ORIGINAL-URL:https://helensvillecommunitynews.co.nz
X-WR-CALDESC:Events for Helensville Community News
BEGIN:VEVENT
DTSTART;TZID=Pacific/Auckland:20171207T170000
DTEND;TZID=Pacific/Auckland:20171207T203000
DTSTAMP:20260425T111302
CREATED:20171204T000656Z
LAST-MODIFIED:20171204T000656Z
UID:6433-1512666000-1512678600@helensvillecommunitynews.co.nz
SUMMARY:South Kaipara Twilight Christmas Markets
DESCRIPTION: \n
URL:https://helensvillecommunitynews.co.nz/event/south-kaipara-twilight-christmas-markets/
LOCATION:Te Whare Oranga o Parakai\, Te Moau Ave\, Parakai\, New Zealand
CATEGORIES:Market
ORGANIZER;CN="Amy%20Wood":MAILTO:a.wood@hdht.co.nz
END:VEVENT
END:VCALENDAR