BEGIN:VCALENDAR
VERSION:2.0
PRODID:-//Helensville Community News - ECPv4.6.25//NONSGML v1.0//EN
CALSCALE:GREGORIAN
METHOD:PUBLISH
X-WR-CALNAME:Helensville Community News
X-ORIGINAL-URL:https://helensvillecommunitynews.co.nz
X-WR-CALDESC:Events for Helensville Community News
BEGIN:VEVENT
DTSTART;TZID=Pacific/Auckland:20231118T163000
DTEND;TZID=Pacific/Auckland:20231118T163000
DTSTAMP:20260424T200734
CREATED:20231103T013822Z
LAST-MODIFIED:20231103T013822Z
UID:11208-1700325000-1700325000@helensvillecommunitynews.co.nz
SUMMARY:Summers Night in Helensville
DESCRIPTION:Join us in Helensville for an unforgettable evening filled with delectable delights and a lively atmosphere! \nOur Food Trucks are on their way\, bringing together a fantastic array of culinary experiences that are sure to tantalise your taste buds. Indulge in a variety of mouth watering dinner options served up by a lineup of top-notch food trucks. \nBut that's not all – the good vibes will be flowing as we create the perfect setting for a delightful family outing. With something for everyone\, including the kids\, this event promises to be a memorable gathering for all ages. Don't miss out on the chance to savour delicious dishes\, bask in the community spirit\, and treat yourself to a wonderful time. \nAnd for those looking to raise a toast to the evening\, we've got you covered with our pop-up bar featuring a selection of refreshing beverages. Please note that while we're providing the drinks\, this event is not BYOB. So come ready to enjoy a fantastic dinner and a great time without having to worry about bringing your own drinks. \nMark your calendars and join us in Helensville for a Food Truck night that's more than just a meal – it's an experience! Your taste buds\, your family\, and your appetite for fun will thank you. See you there! \nA big thank you to Hapori Hub Helensville for their support with this event! \n
URL:https://helensvillecommunitynews.co.nz/event/summers-night-in-helensville/
LOCATION:Helensville Rugby Club\, 162 Awaroa Road\, Helensville\, 0800\, New Zealand
CATEGORIES:Food Event
END:VEVENT
END:VCALENDAR