BEGIN:VCALENDAR
VERSION:2.0
PRODID:-//Helensville Community News - ECPv4.6.25//NONSGML v1.0//EN
CALSCALE:GREGORIAN
METHOD:PUBLISH
X-WR-CALNAME:Helensville Community News
X-ORIGINAL-URL:https://helensvillecommunitynews.co.nz
X-WR-CALDESC:Events for Helensville Community News
BEGIN:VEVENT
DTSTART;TZID=Pacific/Auckland:20161029T200000
DTEND;TZID=Pacific/Auckland:20161029T220000
DTSTAMP:20260424T224619
CREATED:20161004T231237Z
LAST-MODIFIED:20161004T231237Z
UID:4703-1477771200-1477778400@helensvillecommunitynews.co.nz
SUMMARY:“Supper Theatre – Café Murder”
DESCRIPTION:Saturday\, 29 October\, The Mad Makarau Players Present “Supper Theatre – Café Murder”\, 8pm at The Makarau Hall\, The Mad Makarau Players are proud to present an evening of comedy and murder.  We do the acting; the audience has to work out who committed the crime!  Cost $25 per ticket (tickets will be limited to 80\, so get in quick!)  Prizes for best French Inspired Costume.  Cost includes a French Themed Supper\, BYO Drinks.  No Door Sales!  Adults Only!  Please contact Lisa on 0272077266 or email lisamschreivogel@gmail.com for tickets. \n
URL:https://helensvillecommunitynews.co.nz/event/supper-theatre-cafe-murder/
LOCATION:Makarau Hall\, Makarau Road\, Makarau\, New Zealand
ORGANIZER;CN="Lisa":MAILTO:lisamschreivogel@gmail.com
END:VEVENT
END:VCALENDAR