BEGIN:VCALENDAR
VERSION:2.0
PRODID:-//Helensville Community News - ECPv4.6.25//NONSGML v1.0//EN
CALSCALE:GREGORIAN
METHOD:PUBLISH
X-WR-CALNAME:Helensville Community News
X-ORIGINAL-URL:https://helensvillecommunitynews.co.nz
X-WR-CALDESC:Events for Helensville Community News
BEGIN:VEVENT
DTSTART;TZID=Pacific/Auckland:20170823T193000
DTEND;TZID=Pacific/Auckland:20170823T213000
DTSTAMP:20260425T032159
CREATED:20170802T011553Z
LAST-MODIFIED:20170802T011553Z
UID:6027-1503516600-1503523800@helensvillecommunitynews.co.nz
SUMMARY:TARRA - Te Awaroa Residents & Ratepayers Assoc
DESCRIPTION:(TARRA)\, 4th Wednesday Bi monthly\, 7:30pm at Parakai Springs reception room.  Visitors Welcome.  Next Meeting 25 October. \n  \n
URL:https://helensvillecommunitynews.co.nz/event/tarra-te-awaroa-residents-ratepayers-assoc/
LOCATION:Parakai Springs\, 150 Parkhurst Road\, Parakai\, New Zealand
CATEGORIES:Meeting
END:VEVENT
END:VCALENDAR