BEGIN:VCALENDAR
VERSION:2.0
PRODID:-//Helensville Community News - ECPv4.6.25//NONSGML v1.0//EN
CALSCALE:GREGORIAN
METHOD:PUBLISH
X-WR-CALNAME:Helensville Community News
X-ORIGINAL-URL:https://helensvillecommunitynews.co.nz
X-WR-CALDESC:Events for Helensville Community News
BEGIN:VEVENT
DTSTART;TZID=Pacific/Auckland:20170628T193000
DTEND;TZID=Pacific/Auckland:20170628T213000
DTSTAMP:20260424T224456
CREATED:20170601T000818Z
LAST-MODIFIED:20170601T000818Z
UID:5797-1498678200-1498685400@helensvillecommunitynews.co.nz
SUMMARY:Te Awaroa Residents & Ratepayers Association AGM
DESCRIPTION:Speaker Deputy Mayor Penny Hulse \n
URL:https://helensvillecommunitynews.co.nz/event/te-awaroa-residents-ratepayers-association-agm/
LOCATION:Helensville War Memorial Hall – Meeting Room\, 49 Commercial Road\, Helensville\, Auckland\, New Zealand
CATEGORIES:AGM
END:VEVENT
END:VCALENDAR