BEGIN:VCALENDAR
VERSION:2.0
PRODID:-//Helensville Community News - ECPv4.6.25//NONSGML v1.0//EN
CALSCALE:GREGORIAN
METHOD:PUBLISH
X-WR-CALNAME:Helensville Community News
X-ORIGINAL-URL:https://helensvillecommunitynews.co.nz
X-WR-CALDESC:Events for Helensville Community News
BEGIN:VEVENT
DTSTART;TZID=Pacific/Auckland:20170701T103000
DTEND;TZID=Pacific/Auckland:20170701T143000
DTSTAMP:20260424T230147
CREATED:20170601T000906Z
LAST-MODIFIED:20170601T000906Z
UID:5800-1498905000-1498919400@helensvillecommunitynews.co.nz
SUMMARY:Tetaou Hui
DESCRIPTION:Whakapapa History of Tetaou.  Please bring share kai Whanau\, also koha towards hireage.  Nau mai\, haere mai.  Any enquires to cell 021 182 0470 \n
URL:https://helensvillecommunitynews.co.nz/event/tetaou-hui-2/
LOCATION:Te Whare Oranga o Parakai\, Te Moau Ave\, Parakai\, New Zealand
CATEGORIES:Meeting
END:VEVENT
END:VCALENDAR