BEGIN:VCALENDAR
VERSION:2.0
PRODID:-//Helensville Community News - ECPv4.6.25//NONSGML v1.0//EN
CALSCALE:GREGORIAN
METHOD:PUBLISH
X-WR-CALNAME:Helensville Community News
X-ORIGINAL-URL:https://helensvillecommunitynews.co.nz
X-WR-CALDESC:Events for Helensville Community News
BEGIN:VEVENT
DTSTART;TZID=Pacific/Auckland:20190504T180000
DTEND;TZID=Pacific/Auckland:20190504T230000
DTSTAMP:20260425T232640
CREATED:20190327T003945Z
LAST-MODIFIED:20190327T003945Z
UID:7797-1556992800-1557010800@helensvillecommunitynews.co.nz
SUMMARY:The Gee Bees
DESCRIPTION:Come along to listen to all your favourite BEE GEE songs. Meals from 6pm Gee Bees play from 7:30 to 10:00.\nTickets from the RSA $25 pp. This band is very well known and popular so get in quick. All Welcome. Contact the RSA 4208888.  Leave a message if no one answers. \n
URL:https://helensvillecommunitynews.co.nz/event/the-gee-bees/
LOCATION:Kaipara Memorial RSA\, 49 Commercial Road\, Helensville\, Auckland\, 0874\, New Zealand
CATEGORIES:Music
END:VEVENT
END:VCALENDAR