BEGIN:VCALENDAR
VERSION:2.0
PRODID:-//Helensville Community News - ECPv4.6.25//NONSGML v1.0//EN
CALSCALE:GREGORIAN
METHOD:PUBLISH
X-WR-CALNAME:Helensville Community News
X-ORIGINAL-URL:https://helensvillecommunitynews.co.nz
X-WR-CALDESC:Events for Helensville Community News
BEGIN:VEVENT
DTSTART;TZID=Pacific/Auckland:20161218T100000
DTEND;TZID=Pacific/Auckland:20161218T130000
DTSTAMP:20260425T111139
CREATED:20161202T001553Z
LAST-MODIFIED:20161202T001553Z
UID:4862-1482055200-1482066000@helensvillecommunitynews.co.nz
SUMMARY:THE MAN IN RED
DESCRIPTION:Santa has once again found time in his busy schedule to come to the Historic Kaukapakapa Library\, which has been themed as his sparkly Grotto. Those who visit have the chance to pass on their wish list\, take home a souvenir photo and maybe even receive a gift from the man in red if they’ve been very\, very good.\nFully grown kids are welcome to pop in\, too\, and Grotto guests are asked to make a gold coin donation - Santa tells us Mrs Claus and the Elves are very high maintenance!\nLibrary open on the third Sunday every month in conjunction with Kaukapakapa Village Market.  For more information contact Megan\, phone 021 959017 or email threehorses@xtra.co.nz \n
URL:https://helensvillecommunitynews.co.nz/event/the-man-in-red/
LOCATION:Kaukapakapa Hall\, 947 Kaipara Coast Hwy SH16\, Kaukapakapa\, New Zealand
CATEGORIES:Market
ORGANIZER;CN="Megan%20Paterson":MAILTO:threehourses@xtra.co.nz
END:VEVENT
END:VCALENDAR