BEGIN:VCALENDAR
VERSION:2.0
PRODID:-//Helensville Community News - ECPv4.6.25//NONSGML v1.0//EN
CALSCALE:GREGORIAN
METHOD:PUBLISH
X-WR-CALNAME:Helensville Community News
X-ORIGINAL-URL:https://helensvillecommunitynews.co.nz
X-WR-CALDESC:Events for Helensville Community News
BEGIN:VEVENT
DTSTART;TZID=Pacific/Auckland:20170915T173000
DTEND;TZID=Pacific/Auckland:20170915T220000
DTSTAMP:20260424T235701
CREATED:20170901T021416Z
LAST-MODIFIED:20170901T021416Z
UID:6125-1505496600-1505512800@helensvillecommunitynews.co.nz
SUMMARY:“The Nuke Ukuele Band”
DESCRIPTION:This popular well known band has chosen to play at the RSA.  Meals from 5:30pm – 7:30pm The Nukes start at 7:30 and play through to 10pm. All Welcome Tickets available at the door $25 adult and Children under 16 $15. Discounted tickets from the RSA up to the 13th.  Get in early to avoid disappointment \n
URL:https://helensvillecommunitynews.co.nz/event/the-nuke-ukuele-band/
LOCATION:Kaipara Memorial RSA\, 49 Commercial Road\, Helensville\, Auckland\, 0874\, New Zealand
CATEGORIES:Music
END:VEVENT
END:VCALENDAR