BEGIN:VCALENDAR
VERSION:2.0
PRODID:-//Helensville Community News - ECPv4.6.25//NONSGML v1.0//EN
CALSCALE:GREGORIAN
METHOD:PUBLISH
X-WR-CALNAME:Helensville Community News
X-ORIGINAL-URL:https://helensvillecommunitynews.co.nz
X-WR-CALDESC:Events for Helensville Community News
BEGIN:VEVENT
DTSTART;TZID=Pacific/Auckland:20250518T083000
DTEND;TZID=Pacific/Auckland:20250518T130000
DTSTAMP:20260424T165752
CREATED:20250414T033447Z
LAST-MODIFIED:20250414T033447Z
UID:12450-1747557000-1747573200@helensvillecommunitynews.co.nz
SUMMARY:The Village Market
DESCRIPTION:A monthly event that takes place on the third Sunday of every month (except for February) at the Helensville A&P Showgrounds. A lively and friendly market that offers a variety of stalls\, live music\, free face painting or hair plaiting for the kids\, and delicious food and coffee. You can find fresh local produce and plants\, artisan food and preserves\, handmade crafts\, gifts\, collectibles\, pre-loved items and more. If you are looking for a fun and relaxing way to spend your Sunday morning\, you might want to check out this Village Market.  No dogs please with the exception of assistance dogs.  Gold coin donation for parking – proceeds to the Helensville/Kaukapakapa scouts and St John youth.\nFor more information contact sarah@riversidecrafts.co.nz. \n
URL:https://helensvillecommunitynews.co.nz/event/the-village-market-4/
LOCATION:Helensville A&P Show Grounds\, 63 Railway Street\, Helensville\, 0800\, New Zealand
CATEGORIES:Market
ORGANIZER;CN="Sarah%20Legg":MAILTO:sarah@riversidecrafts.co.nz
END:VEVENT
END:VCALENDAR