BEGIN:VCALENDAR
VERSION:2.0
PRODID:-//Helensville Community News - ECPv4.6.25//NONSGML v1.0//EN
CALSCALE:GREGORIAN
METHOD:PUBLISH
X-WR-CALNAME:Helensville Community News
X-ORIGINAL-URL:https://helensvillecommunitynews.co.nz
X-WR-CALDESC:Events for Helensville Community News
BEGIN:VEVENT
DTSTART;TZID=Pacific/Auckland:20240507T100000
DTEND;TZID=Pacific/Auckland:20240507T120000
DTSTAMP:20260425T011703
CREATED:20230831T233730Z
LAST-MODIFIED:20240408T022347Z
UID:11047-1715076000-1715083200@helensvillecommunitynews.co.nz
SUMMARY:U3A Monthly Meeting
DESCRIPTION:Guests are very welcome.  U3A is a unique organisation of retired and semi retired people who enjoy learning from each other and sharing their skills and expertise through meetings and interest groups. Members have a general meeting on the first Tuesday of the month and choose special interest groups to join. Groups at present include: Book Club\, Food and Wine Appreciation\, Mah Jong\, Gardening\, Critical Thinking\, Shared Reading\, NZ History\, Out n About\, Needle and Stiches and TED Talks. Costs are minimal. \nFor more information contact Gloria Middleditch jandgmiddleditch@outlook.com   094203007/0211658428 or   Bev Silvester-Clark bev.s-c@outlook.com phone 0274316205. \n
URL:https://helensvillecommunitynews.co.nz/event/u3a-monthly-meeting-4/
LOCATION:St Josephs Church Hall\, Cnr Kowhai & Puriri St\, Helensville
CATEGORIES:Meeting
END:VEVENT
END:VCALENDAR