BEGIN:VCALENDAR
VERSION:2.0
PRODID:-//Helensville Community News - ECPv4.6.25//NONSGML v1.0//EN
CALSCALE:GREGORIAN
METHOD:PUBLISH
X-WR-CALNAME:Helensville Community News
X-ORIGINAL-URL:https://helensvillecommunitynews.co.nz
X-WR-CALDESC:Events for Helensville Community News
BEGIN:VEVENT
DTSTART;TZID=Pacific/Auckland:20221004T100000
DTEND;TZID=Pacific/Auckland:20221004T120000
DTSTAMP:20260424T153938
CREATED:20220922T224104Z
LAST-MODIFIED:20220922T224104Z
UID:10148-1664877600-1664884800@helensvillecommunitynews.co.nz
SUMMARY:U3A monthly meeting
DESCRIPTION:Guest Speakers\, Silke Carter and Irene Hogan\, L’Arche Mount Tabor.  Guests are very welcome.  Wear masks please.  U3A is a unique organisation of retired and semi retired people who enjoy learning from each other and sharing their skills and expertise through meetings and interest groups. Members have a general meeting on the first Tuesday of the month and choose special interest groups to join. Groups at present include: Book Club\, Food and Wine Appreciation\, Mah Jong\, Gardening\, Critical Thinking\, Shared Reading\, NZ History\, Out n About and TED Talks. Costs are minimal. \n
URL:https://helensvillecommunitynews.co.nz/event/u3a-monthly-meeting/
LOCATION:St Johns Hall\, Rata Street\, Helensville\, 0800\, New Zealand
CATEGORIES:U3A
END:VEVENT
END:VCALENDAR