BEGIN:VCALENDAR
VERSION:2.0
PRODID:-//Helensville Community News - ECPv4.6.25//NONSGML v1.0//EN
CALSCALE:GREGORIAN
METHOD:PUBLISH
X-WR-CALNAME:Helensville Community News
X-ORIGINAL-URL:https://helensvillecommunitynews.co.nz
X-WR-CALDESC:Events for Helensville Community News
BEGIN:VEVENT
DTSTART;TZID=Pacific/Auckland:20190203T160000
DTEND;TZID=Pacific/Auckland:20190203T190000
DTSTAMP:20260425T234414
CREATED:20190117T201214Z
LAST-MODIFIED:20190117T201214Z
UID:7566-1549209600-1549220400@helensvillecommunitynews.co.nz
SUMMARY:Vaulting World Champs Fundraiser
DESCRIPTION: \nJoin us for an early evening of entertainment\, art\, wine tasting\, and nibbles at the charming heritage Old School Building in Greenhithe. There will be a silent auction for some fabulous experiences\, vouchers\, art\, jewellery\, and beautiful wares. All funds raised will be donated to the Kapiti Vaulting Club\, a nonprofit registered charity. Our fundraiser is supporting the New Zealand Vaulting Team\, which includes our own Waimauku Vaulter\, Jasmyn Rodriguez. \n
URL:https://helensvillecommunitynews.co.nz/event/vaulting-world-champs-fundraiser/
LOCATION:Old School Building\, 15a Greenhithe Road\, Auckland\, New Zealand
CATEGORIES:Fundraiser
END:VEVENT
END:VCALENDAR