BEGIN:VCALENDAR
VERSION:2.0
PRODID:-//Helensville Community News - ECPv4.6.25//NONSGML v1.0//EN
CALSCALE:GREGORIAN
METHOD:PUBLISH
X-WR-CALNAME:Helensville Community News
X-ORIGINAL-URL:https://helensvillecommunitynews.co.nz
X-WR-CALDESC:Events for Helensville Community News
BEGIN:VEVENT
DTSTART;TZID=Pacific/Auckland:20170616T190000
DTEND;TZID=Pacific/Auckland:20170616T230000
DTSTAMP:20260424T193637
CREATED:20170531T233954Z
LAST-MODIFIED:20170531T233954Z
UID:5780-1497639600-1497654000@helensvillecommunitynews.co.nz
SUMMARY:Waitemata Hunt Reunion Dinner
DESCRIPTION:  \nTickets:   $50 pp.     Cash Bar\nDress:     Formal\, Flashy\, Fabulous\, Foxy Finery \nBring:     Photos\, video\, memorabilia\, digital format welcome to display on big screen \n  \nPlease let others know & bring friends & relatives. \n
URL:https://helensvillecommunitynews.co.nz/event/waitemata-hunt-reunion-dinner/
LOCATION:Northridge Country Lodge\, 379 Wainui Road\, Silverdale\, Auckland\, New Zealand
ORGANIZER;CN="Bunty%20Condon":MAILTO:buntycondon@xtra.co.nz
END:VEVENT
END:VCALENDAR