BEGIN:VCALENDAR
VERSION:2.0
PRODID:-//Helensville Community News - ECPv4.6.25//NONSGML v1.0//EN
CALSCALE:GREGORIAN
METHOD:PUBLISH
X-WR-CALNAME:Helensville Community News
X-ORIGINAL-URL:https://helensvillecommunitynews.co.nz
X-WR-CALDESC:Events for Helensville Community News
BEGIN:VEVENT
DTSTART;TZID=Pacific/Auckland:20161210T083000
DTEND;TZID=Pacific/Auckland:20161210T120000
DTSTAMP:20260425T022146
CREATED:20161101T001853Z
LAST-MODIFIED:20161201T235341Z
UID:4793-1481358600-1481371200@helensvillecommunitynews.co.nz
SUMMARY:Waitoki Market Day
DESCRIPTION:Get to view one of the local fire trucks up close & chat to Dave about being a fire brigade volunteer\, even a photo opportunity with you in fire fighters helmet. Xmas Trees will be on sale on the day\, giving you a practical opportunity to support the local fire brigade.\nGather and Gossip\, come and catch up with your neighbours before Christmas\, while sampling a delicious BBQ brunch or a simple cuppa and a scone at the Waitoki Hall\, Kahikatea Flat Rd. 8.30 till noon Saturday December 10th. Pick up homemade and preloved bargains\, Bric a Brac\, baked goods\, preserves\, plants and more. Support your community; all proceeds from the Market go back to our local community. New stall holders welcome\, contact Shirley 420 5111 \n
URL:https://helensvillecommunitynews.co.nz/event/waitoki-market-day-3/
LOCATION:Waitoki Hall\, Kahikatea Flat Road\, Waitoki
CATEGORIES:Market
END:VEVENT
END:VCALENDAR