BEGIN:VCALENDAR
VERSION:2.0
PRODID:-//Helensville Community News - ECPv4.6.25//NONSGML v1.0//EN
CALSCALE:GREGORIAN
METHOD:PUBLISH
X-WR-CALNAME:Helensville Community News
X-ORIGINAL-URL:https://helensvillecommunitynews.co.nz
X-WR-CALDESC:Events for Helensville Community News
BEGIN:VEVENT
DTSTART;TZID=Pacific/Auckland:20160916T190000
DTEND;TZID=Pacific/Auckland:20160916T210000
DTSTAMP:20260424T220204
CREATED:20160902T010138Z
LAST-MODIFIED:20160902T010202Z
UID:4552-1474052400-1474059600@helensvillecommunitynews.co.nz
SUMMARY:Waitoki School Quiz Night
DESCRIPTION:Doors open at 7pm\, with quiz starting at 7.30pm.  BYO drinks and nibbles and prize for fancy dress.  Eight people to a team.  Soft drink\, tea and coffee for the sober driver. Tickets available from the school office for $10 per person.  Ph 09 420 5244 \n
URL:https://helensvillecommunitynews.co.nz/event/waitoki-school-quiz-night/
LOCATION:Waitoki School Hall\, 1119 Kahikatea Flat Road\, Waitoki\, New Zealand
CATEGORIES:Quiz Night
END:VEVENT
END:VCALENDAR