BEGIN:VCALENDAR
VERSION:2.0
PRODID:-//Helensville Community News - ECPv4.6.25//NONSGML v1.0//EN
CALSCALE:GREGORIAN
METHOD:PUBLISH
X-WR-CALNAME:Helensville Community News
X-ORIGINAL-URL:https://helensvillecommunitynews.co.nz
X-WR-CALDESC:Events for Helensville Community News
BEGIN:VEVENT
DTSTART;TZID=Pacific/Auckland:20171209T083000
DTEND;TZID=Pacific/Auckland:20171209T120000
DTSTAMP:20260425T105832
CREATED:20170815T011713Z
LAST-MODIFIED:20171026T220404Z
UID:6051-1512808200-1512820800@helensvillecommunitynews.co.nz
SUMMARY:Waitoki Village Christmas Market Day
DESCRIPTION:Waitoki Hall\, Kahikatea Flat Rd. 8.30 till noon\, The ever popular fire truck returns with Christmas trees for sale on the day\, giving you a practical opportunity to support the local fire brigade. Not to mention a photo opportunity with you in fire fighters garb! A few of the happy Waitoki Crafters will be on hand to show you how to crotchet simple decorations for your tree & home. Gather and Gossip\, before Christmas\, while picking up baked goods\, coffee\, olive oil\, plants\, homemade and preloved bargains\, Bric a Brac\, preserves and more Support your community; proceeds from the Market go back to our local community. New stall holders welcome\, contact Gill 420 3301 or email waitokihall@gmail.com \n
URL:https://helensvillecommunitynews.co.nz/event/waitoki-village-market-day-11/
LOCATION:Waitoki Hall\, Kahikatea Flat Road\, Waitoki
CATEGORIES:Market
END:VEVENT
END:VCALENDAR