BEGIN:VCALENDAR
VERSION:2.0
PRODID:-//Helensville Community News - ECPv4.6.25//NONSGML v1.0//EN
CALSCALE:GREGORIAN
METHOD:PUBLISH
X-WR-CALNAME:Helensville Community News
X-ORIGINAL-URL:https://helensvillecommunitynews.co.nz
X-WR-CALDESC:Events for Helensville Community News
BEGIN:VEVENT
DTSTART;TZID=Pacific/Auckland:20180414T083000
DTEND;TZID=Pacific/Auckland:20180414T120000
DTSTAMP:20260424T194325
CREATED:20180108T214115Z
LAST-MODIFIED:20180403T225540Z
UID:6491-1523694600-1523707200@helensvillecommunitynews.co.nz
SUMMARY:Waitoki Village Market Day
DESCRIPTION:Thought about making cheese? Jenny Savannah will demo how to make feta and ricotta cheeses as well as cheese tasting including haloumi\, at the next Waitoki Market. She will also have cheese making kits available for sale. So come in and chat\, while choosing baked goods\, coffee\, olive oil\, plants\, homemade and preloved bargains\, Bric a Brac\, preserves and more at the Waitoki Hall\, Kahikatea Flat Rd. 8.30 till noon Saturday 14th of April. Support your community; proceeds from the Market go back to our local community. New stall holders welcome\, contact Gill 420 3301 or email waitokihall@gmail.com\, next market: 9 June \n
URL:https://helensvillecommunitynews.co.nz/event/waitoki-village-market-day-12/
LOCATION:Waitoki Hall\, Kahikatea Flat Road\, Waitoki
CATEGORIES:Market
ORGANIZER;CN="Gill":MAILTO:markets4waitoki@gmail.com
END:VEVENT
END:VCALENDAR