BEGIN:VCALENDAR
VERSION:2.0
PRODID:-//Helensville Community News - ECPv4.6.25//NONSGML v1.0//EN
CALSCALE:GREGORIAN
METHOD:PUBLISH
X-WR-CALNAME:Helensville Community News
X-ORIGINAL-URL:https://helensvillecommunitynews.co.nz
X-WR-CALDESC:Events for Helensville Community News
BEGIN:VEVENT
DTSTART;TZID=Pacific/Auckland:20190413T083000
DTEND;TZID=Pacific/Auckland:20190413T120000
DTSTAMP:20260425T215942
CREATED:20190327T001345Z
LAST-MODIFIED:20190327T001345Z
UID:7759-1555144200-1555156800@helensvillecommunitynews.co.nz
SUMMARY:Waitoki Village Market Day
DESCRIPTION:Relax\, Heal and Rejuvenate at this months market\, Local masseuse Rachel is giving soothing massages in a secluded room at the Waitoki market. She proved very popular at the February market so come and see for yourself! Check out the great bargains to be had\, pick up baked goods\, plants\, homemade and preloved bargains\, Bric a Brac\, preserves\, and more. Support your community; proceeds from the Market go back to our local community. New stall holders welcome\, contact Gill 420 3301 or email waitokihall@gmail.com\, \nNext Market 8th June. \n
URL:https://helensvillecommunitynews.co.nz/event/waitoki-village-market-day-15/
LOCATION:Waitoki Hall\, Kahikatea Flat Road\, Waitoki
CATEGORIES:Market
ORGANIZER;CN="Gill":MAILTO:markets4waitoki@gmail.com
END:VEVENT
END:VCALENDAR