BEGIN:VCALENDAR
VERSION:2.0
PRODID:-//Helensville Community News - ECPv4.6.25//NONSGML v1.0//EN
CALSCALE:GREGORIAN
METHOD:PUBLISH
X-WR-CALNAME:Helensville Community News
X-ORIGINAL-URL:https://helensvillecommunitynews.co.nz
X-WR-CALDESC:Events for Helensville Community News
BEGIN:VEVENT
DTSTART;TZID=Pacific/Auckland:20190608T083000
DTEND;TZID=Pacific/Auckland:20190608T120000
DTSTAMP:20260425T215942
CREATED:20190528T234119Z
LAST-MODIFIED:20190528T234119Z
UID:7994-1559982600-1559995200@helensvillecommunitynews.co.nz
SUMMARY:Waitoki Village Market Day
DESCRIPTION:Elegant Empowerment\, Come and check out Georgina’s handmade crystal bracelets charged with Reiki\, necklaces\, affirmation and oracle cards\, books and a selection of crystals at the next Waitoki Market. Talk to her about how you can use them to help relax and calm. \nHave a chat with Lisa on how to use native plants to enhance your garden and bush. Don’t wait for a disaster to meet your neighbours and find out what is going on in your community. Pick up baked goods\, plants\, homemade and preloved bargains\, preserves\, and more. Support your locally owned hall; proceeds from the Market go back to our local community. New stall holders welcome\, contact Gill 420 3301 or email waitokihall@gmail.com - next market 10 August. \n
URL:https://helensvillecommunitynews.co.nz/event/waitoki-village-market-day-16/
LOCATION:Waitoki Hall\, Kahikatea Flat Road\, Waitoki
CATEGORIES:Market
ORGANIZER;CN="Gill":MAILTO:markets4waitoki@gmail.com
END:VEVENT
END:VCALENDAR