BEGIN:VCALENDAR
VERSION:2.0
PRODID:-//Helensville Community News - ECPv4.6.25//NONSGML v1.0//EN
CALSCALE:GREGORIAN
METHOD:PUBLISH
X-WR-CALNAME:Helensville Community News
X-ORIGINAL-URL:https://helensvillecommunitynews.co.nz
X-WR-CALDESC:Events for Helensville Community News
BEGIN:VEVENT
DTSTART;TZID=Pacific/Auckland:20200208T083000
DTEND;TZID=Pacific/Auckland:20200208T120000
DTSTAMP:20260424T150503
CREATED:20191219T210114Z
LAST-MODIFIED:20191219T210114Z
UID:8455-1581150600-1581163200@helensvillecommunitynews.co.nz
SUMMARY:Waitoki Village Market Day
DESCRIPTION:Saturday\, 8 February\, Waitoki Village Market Day\, 8.30 till noon\, Waitoki Hall\, Kahikatea Flat Rd. Want to know more about how to Felt come and talk to Lisa at the next Waitoki Market. She’ll have wool for sale and felted accessories on display\, and can tell you about the wool qualities of different sheep breeds and the difference they make to your felt project. Come and meet her and other locals at the next Waitoki Market\, chat\, catch up with neighbours\, find out what is going on in your community\, get involved in a friendly\, relaxed atmosphere\, have a massage\, pick up baked goods\, plants\, essential oils\, locally crafted gifts\, homemade and preloved bargains\, Bric a Brac\, preserves\, and more.\nSupport your community; proceeds from the Market go back to our local community. New stall holders welcome Next market 11 April\, 13 June \n
URL:https://helensvillecommunitynews.co.nz/event/waitoki-village-market-day-19/
LOCATION:Waitoki Hall\, Kahikatea Flat Road\, Waitoki
CATEGORIES:Market
ORGANIZER;CN="Gill":MAILTO:markets4waitoki@gmail.com
END:VEVENT
END:VCALENDAR