BEGIN:VCALENDAR
VERSION:2.0
PRODID:-//Helensville Community News - ECPv4.6.25//NONSGML v1.0//EN
CALSCALE:GREGORIAN
METHOD:PUBLISH
X-WR-CALNAME:Helensville Community News
X-ORIGINAL-URL:https://helensvillecommunitynews.co.nz
X-WR-CALDESC:Events for Helensville Community News
BEGIN:VEVENT
DTSTART;TZID=Pacific/Auckland:20221210T100000
DTEND;TZID=Pacific/Auckland:20221210T150000
DTSTAMP:20260425T111011
CREATED:20220922T225134Z
LAST-MODIFIED:20221130T013913Z
UID:10156-1670666400-1670684400@helensvillecommunitynews.co.nz
SUMMARY:Waitoki Village Christmas Market
DESCRIPTION:Christmas Treats Galore.  The Kaukapakapa Fire Truck will be on display\, so you can see it up close. We will also have a selection of REAL Christmas trees for sale too.  You’ll be spoiled for choice: A feast for the eyes and taste buds\, with a truly delicious range of hand crafted treats from sugar cookies to cupcakes and cake pops designed by Lexi of HaloSuga Lexi has a passion for baking and seeing the satisfaction and enjoyment on friends’ faces made her so elated she decided to start up a small home business on the Hibiscus Coast so you too can enjoy that same feeling. She now caters for the Hibiscus Coast Community and has had customers throughout New Zealand enjoying her goods!\nJax Homekill traditionally flavoured gourmet sausages will be available on the BBQ - give them a try\, they are delicious! \nIf you are looking to order your Christmas Hams\, order now\, Butcher Jacks\, Wairau Rd offer FREE DELIVERY to Waitoki area for all Xmas Ham / Meat orders\, Both businesses can be found on Facebook \nhttps://www.facebook.com/LocalMeatProcessors https://www.facebook.com/butcherjacksltd \nFuture market dates: Feb 11th 2023\, April 8th\, June 10th\, August 12th\, October 14th\, and December 9th \n  \n
URL:https://helensvillecommunitynews.co.nz/event/waitoki-village-market-day-20/
LOCATION:Waitoki Hall\, Kahikatea Flat Road\, Waitoki
CATEGORIES:Market
ORGANIZER;CN="Gill":MAILTO:markets4waitoki@gmail.com
END:VEVENT
END:VCALENDAR