BEGIN:VCALENDAR
VERSION:2.0
PRODID:-//Helensville Community News - ECPv4.6.25//NONSGML v1.0//EN
CALSCALE:GREGORIAN
METHOD:PUBLISH
X-WR-CALNAME:Helensville Community News
X-ORIGINAL-URL:https://helensvillecommunitynews.co.nz
X-WR-CALDESC:Events for Helensville Community News
BEGIN:VEVENT
DTSTART;TZID=Pacific/Auckland:20170408T083000
DTEND;TZID=Pacific/Auckland:20170408T120000
DTSTAMP:20260424T235732
CREATED:20170118T001006Z
LAST-MODIFIED:20170223T223609Z
UID:4923-1491640200-1491652800@helensvillecommunitynews.co.nz
SUMMARY:Waitoki Village Market Day
DESCRIPTION:One way we can pay homage to the simplicity and beauty of things and peoples past is having a little piece of history in our homes. Even better is learning the time honored\, generations old skills that made them in the first place. Yep\, it sure is cheaper and easier just to buy your furniture from a super store and chutney from the supermarket\, but that is kind of missing the point… Local; Christina Neubert and friends will be there to show what’s involved at her “Artisan Workshops” Pick up homemade and preloved bargains\, Bric a Brac\, baked goods\, preserves\, plants and more while chatting and relaxing maybe sampling a delicious BBQ brunch or a cuppa and a scone at the Waitoki Hall\, Kahikatea Flat Rd. 8.30 till noon. \nSupport your community; all proceeds from the Market go back to our local community. \nNew stall holders welcome\, contact Shirley 420 5111 \n
URL:https://helensvillecommunitynews.co.nz/event/waitoki-village-market-day-7/
LOCATION:Waitoki Hall\, Kahikatea Flat Road\, Waitoki
CATEGORIES:Market
END:VEVENT
END:VCALENDAR