BEGIN:VCALENDAR
VERSION:2.0
PRODID:-//Helensville Community News - ECPv4.6.25//NONSGML v1.0//EN
CALSCALE:GREGORIAN
METHOD:PUBLISH
X-WR-CALNAME:Helensville Community News
X-ORIGINAL-URL:https://helensvillecommunitynews.co.nz
X-WR-CALDESC:Events for Helensville Community News
BEGIN:VEVENT
DTSTART;TZID=Pacific/Auckland:20170812T083000
DTEND;TZID=Pacific/Auckland:20170812T120000
DTSTAMP:20260424T193738
CREATED:20170802T005500Z
LAST-MODIFIED:20170802T005500Z
UID:6010-1502526600-1502539200@helensvillecommunitynews.co.nz
SUMMARY:Waitoki Village Market Day
DESCRIPTION:Quilting Display by Town and Country Quilters Waitoki.  A small group of quilters who meet once a month at the Waitoki Hall to take time out from family and work commitments to share their love of quilting\, advice and ideas in a casual friendly environment.  Come and see their craft and have a chat\, catch up with neighbours\, find out what is going on in your community\, get involved in a friendly\, relaxed atmosphere while sampling a delicious BBQ brunch or a cuppa and scone at the Waitoki Hall\, Kahikatea Flat Rd. 8.30 till noon.  Pick up homemade and preloved bargains\, Bric a Brac\, baked goods\, preserves\, plants and more.  Support your community hall; all proceeds from the Market go back to our local community.  New stall holders welcome\, contact Shirley 420 5111 or email waitokihall@gmail.com.  Next Market date: 7 October \n
URL:https://helensvillecommunitynews.co.nz/event/waitoki-village-market-day-9/
LOCATION:Waitoki Hall\, Kahikatea Flat Road\, Waitoki
CATEGORIES:Market
END:VEVENT
END:VCALENDAR