BEGIN:VCALENDAR
VERSION:2.0
PRODID:-//Helensville Community News - ECPv4.6.25//NONSGML v1.0//EN
CALSCALE:GREGORIAN
METHOD:PUBLISH
X-WR-CALNAME:Helensville Community News
X-ORIGINAL-URL:https://helensvillecommunitynews.co.nz
X-WR-CALDESC:Events for Helensville Community News
BEGIN:VEVENT
DTSTART;TZID=Pacific/Auckland:20170812T100000
DTEND;TZID=Pacific/Auckland:20170812T110000
DTSTAMP:20260424T175824
CREATED:20170802T005230Z
LAST-MODIFIED:20170802T005230Z
UID:6007-1502532000-1502535600@helensvillecommunitynews.co.nz
SUMMARY:Weed Management Workshop
DESCRIPTION:Guest speaker Shane McNeill (Bio security Advisor at Auckland Council) will talk about keeping weeds at bay – how to identify and deal with them.\nRegister to attend this FREE workshop – email info@kaiparacoast.co.nz \n
URL:https://helensvillecommunitynews.co.nz/event/weed-management-workshop/
LOCATION:Kaipara Coast Plant Centre\, 1481 Kaipara Coast Highway\, Kaukapakapa\, New Zealand
CATEGORIES:Course,FREE EVENTS
END:VEVENT
END:VCALENDAR