BEGIN:VCALENDAR
VERSION:2.0
PRODID:-//Helensville Community News - ECPv4.6.25//NONSGML v1.0//EN
CALSCALE:GREGORIAN
METHOD:PUBLISH
X-WR-CALNAME:Helensville Community News
X-ORIGINAL-URL:https://helensvillecommunitynews.co.nz
X-WR-CALDESC:Events for Helensville Community News
BEGIN:VEVENT
DTSTART;TZID=Pacific/Auckland:20171017T120000
DTEND;TZID=Pacific/Auckland:20171017T140000
DTSTAMP:20260424T175945
CREATED:20171003T021036Z
LAST-MODIFIED:20171003T021036Z
UID:6254-1508241600-1508248800@helensvillecommunitynews.co.nz
SUMMARY:Wellness and Leadership
DESCRIPTION:This seminar brings together two key areas of interest and concern for people in the community sector. Wellness has increasingly become a significant challenge for people who experience the pressures of unsustainable demands and challenges in this sector. For years we focused on how to deal with stress but the growing awareness now is the importance of understanding and knowing how to develop and sustain wellness in our lives and in the way we work\, and how critical it is that we model this in our leadership with others.\nHilary has been leading wellness workshops for eight years now and continues to develop and draw on tools\, frameworks and her experience in supporting wellness and leadership.\nPresented by Hilary Star-Foged - LEAD NFP Management \n
URL:https://helensvillecommunitynews.co.nz/event/wellness-and-leadership/
LOCATION:Helensville War Memorial Hall\, 49 Commercial Road\, Helensville\, New Zealand
CATEGORIES:Course,Workshop
ORGANIZER;CN="Auckland%20North%20Community%20and%20Development":MAILTO:info@ancad.org.nz
END:VEVENT
END:VCALENDAR