BEGIN:VCALENDAR
VERSION:2.0
PRODID:-//Helensville Community News - ECPv4.6.25//NONSGML v1.0//EN
CALSCALE:GREGORIAN
METHOD:PUBLISH
X-WR-CALNAME:Helensville Community News
X-ORIGINAL-URL:https://helensvillecommunitynews.co.nz
X-WR-CALDESC:Events for Helensville Community News
BEGIN:VEVENT
DTSTART;TZID=Pacific/Auckland:20190411T100000
DTEND;TZID=Pacific/Auckland:20190411T140000
DTSTAMP:20260426T022655
CREATED:20190327T001145Z
LAST-MODIFIED:20190327T001145Z
UID:7755-1554976800-1554991200@helensvillecommunitynews.co.nz
SUMMARY:Gibbs Farm Open Day
DESCRIPTION:PATHS (Parents and Teachers at Helensville School) are currently fundraising for a new senior playground at Helensville Primary School with a trip to Gibbs Farm. Tickets are $45.00 for adults\, 25.00 for a child (5 - 17yrs) and pre-schoolers 4 and under are free with a paying adult. \n
URL:https://helensvillecommunitynews.co.nz/event/gibbs-farm-open-day/
LOCATION:Gibbs Farm\, Barr Road\, Makarau\, New Zealand
CATEGORIES:Fundraiser
END:VEVENT
END:VCALENDAR