BEGIN:VCALENDAR
VERSION:2.0
PRODID:-//Helensville Community News - ECPv4.6.25//NONSGML v1.0//EN
CALSCALE:GREGORIAN
METHOD:PUBLISH
X-WR-CALNAME:Helensville Community News
X-ORIGINAL-URL:https://helensvillecommunitynews.co.nz
X-WR-CALDESC:Events for Helensville Community News
BEGIN:VEVENT
DTSTART;TZID=Pacific/Auckland:20190413T083000
DTEND;TZID=Pacific/Auckland:20190413T120000
DTSTAMP:20260426T022703
CREATED:20190327T001345Z
LAST-MODIFIED:20190327T001345Z
UID:7759-1555144200-1555156800@helensvillecommunitynews.co.nz
SUMMARY:Waitoki Village Market Day
DESCRIPTION:Relax\, Heal and Rejuvenate at this months market\, Local masseuse Rachel is giving soothing massages in a secluded room at the Waitoki market. She proved very popular at the February market so come and see for yourself! Check out the great bargains to be had\, pick up baked goods\, plants\, homemade and preloved bargains\, Bric a Brac\, preserves\, and more. Support your community; proceeds from the Market go back to our local community. New stall holders welcome\, contact Gill 420 3301 or email waitokihall@gmail.com\, \nNext Market 8th June. \n
URL:https://helensvillecommunitynews.co.nz/event/waitoki-village-market-day-15/
LOCATION:Waitoki Hall\, Kahikatea Flat Road\, Waitoki
CATEGORIES:Market
ORGANIZER;CN="Gill":MAILTO:markets4waitoki@gmail.com
END:VEVENT
BEGIN:VEVENT
DTSTART;TZID=Pacific/Auckland:20190413T090000
DTEND;TZID=Pacific/Auckland:20190421T150000
DTSTAMP:20260426T022703
CREATED:20190327T004255Z
LAST-MODIFIED:20190327T004255Z
UID:7800-1555146000-1555858800@helensvillecommunitynews.co.nz
SUMMARY:Helensville Easter Services
DESCRIPTION: \nSouth Kaipara Anglican Methodist Churches:\nAll Saints\, Peak Road\, Kaukapakapa \nand St Matthews\, 60 Garfield Road\, Helensville\n14 April\, Palm Sunday\, All Saints\, Kaukapakapa 9.00am and St Matthews\, Helensville 9.30am\n15 - 18 April\, Holy Week\, St Matthews\, Helensville 9.30am each morning\n18 April\, Maundy Thursday\, St Matthews\, Helensville Evening Service 6.00pm Christian assover Seder Meal\, Koha please\, RSVP skangmeth@gmail.com with attendance\, then 7.00pm Footwashing Service.\n19 April\, Good Friday\, St Matthews\, Helensville 9.30am\n21 April\, Easter Sunday\, St Matthews\, Helensville 9.30am \n\nSt Joseph’s Catholic Church\, 1 Puriri Street\, Helensville\n13 April\, Saturday - Vigil\, Palm Sunday of the Passion of the Lord\, 6.00pm\n18 April\, Combined Mass of the Lord’s Supper\, 7.30pm\n19 April\, Good Friday\, Passion of the Lord Jesus\, 3.00pm\n20 April\, Holy Saturday\, Easter Vigil Mass\, 7.30pm\n21 April\, Easter Sunday\, Easter Sunday Mass\, 9.00am \n\nSt Patrick’s Catholic Church\, 380 Main Road\, Huapai\n14 April\, Palm Sunday of the Passion of the Lord\, 9.00am\n19 April\, Good Friday\, Passion of the Lord Jesus\, 3.00pm\n20 April\, Holy Saturday\, Easter Vigil Mass\, 7.30pm\n21 April\, Easter Sunday\, Easter Sunday Mass\, 9.00am \n\nMagnify Church\, 118 Commercial Road\, Helensville\n21 April\, Easter Family Service - All Welcome\, 10.00am \n
URL:https://helensvillecommunitynews.co.nz/event/helensville-easter-services/
END:VEVENT
BEGIN:VEVENT
DTSTART;TZID=Pacific/Auckland:20190413T100000
DTEND;TZID=Pacific/Auckland:20190413T150000
DTSTAMP:20260426T022703
CREATED:20190327T002321Z
LAST-MODIFIED:20190327T002321Z
UID:7761-1555149600-1555167600@helensvillecommunitynews.co.nz
SUMMARY:All Saints Open Day
DESCRIPTION:All Welcome. \nFree handouts of local history\, hear organ music of your choice\, feel the spirit of our pioneer families\, enjoy coffee and refreshments. \nAll Saints Op Shop\, sale on now\, sorry no Eftpos. \nAll Saints Cemetery\, ask about burial & ashes plots held solely for the local families. \n
URL:https://helensvillecommunitynews.co.nz/event/all-saints-open-day/
LOCATION:All Saints Kaukapakapa\, Cnr SH16 & Peak Road\, Kaukapakapa\, New Zealand
CATEGORIES:FREE EVENTS,OPEN DAY
END:VEVENT
END:VCALENDAR