BEGIN:VCALENDAR
VERSION:2.0
PRODID:-//Helensville Community News - ECPv4.6.25//NONSGML v1.0//EN
CALSCALE:GREGORIAN
METHOD:PUBLISH
X-WR-CALNAME:Helensville Community News
X-ORIGINAL-URL:https://helensvillecommunitynews.co.nz
X-WR-CALDESC:Events for Helensville Community News
BEGIN:VEVENT
DTSTART;TZID=Pacific/Auckland:20190427T100000
DTEND;TZID=Pacific/Auckland:20190427T150000
DTSTAMP:20260426T022655
CREATED:20190327T003144Z
LAST-MODIFIED:20190327T003145Z
UID:7791-1556359200-1556377200@helensvillecommunitynews.co.nz
SUMMARY:Arts and Crafts Day
DESCRIPTION:Helensville Museum presents an arts and crafts day\, focusing on the kinds of crafts pioneers would have done. There will be demonstrations and hands on workshops for people of all ages\, young and old\, and every workshop creates something you can take away with you. Crafts include: ice candle making\, bubble painting\, rolled beeswax candles\, bead looming\, and more. Come down and have a go and see what you can make with simple household materials. There will be a small charge to cover materials on workshops. No bookings required. \n
URL:https://helensvillecommunitynews.co.nz/event/arts-and-crafts-day/
LOCATION:Helensville Museum\, 98 Mill Road\, Helensville\, New Zealand
CATEGORIES:OPEN DAY
END:VEVENT
END:VCALENDAR