BEGIN:VCALENDAR
VERSION:2.0
PRODID:-//Helensville Community News - ECPv4.6.25//NONSGML v1.0//EN
CALSCALE:GREGORIAN
METHOD:PUBLISH
X-WR-CALNAME:Helensville Community News
X-ORIGINAL-URL:https://helensvillecommunitynews.co.nz
X-WR-CALDESC:Events for Helensville Community News
BEGIN:VEVENT
DTSTART;TZID=Pacific/Auckland:20190629T110000
DTEND;TZID=Pacific/Auckland:20190630T170000
DTSTAMP:20260425T231844
CREATED:20190528T234909Z
LAST-MODIFIED:20190528T234909Z
UID:8004-1561806000-1561914000@helensvillecommunitynews.co.nz
SUMMARY:Loaded Tough Guy and Gal Challenge
DESCRIPTION:Registration will be at the Tennis Centre. \nIf you want to get down and dirty and have a whole lot of fun\, then these unique off-road running events are for you.\nThe events are open to both male and female competitors who are 13 years of age and older. Challenge yourself on a course that includes swamp crossings\, a spiders web net climb\, crawl under barb wire\, beautiful native bush trails\, tunnels\, hurdles\, a climbing frame not to mention\, mud mud and more mud!\nOur events have awesome spot prizes\, merit prizes\, amazing goodie bags\, souvenir coffee mugs\, challenging obstacles\, a fun atmosphere\, hot showers and plenty of free parking. Grab your friends\, workmates or family together for a truly amazing experience! Numbers are limited to 1100 per day! \n
URL:https://helensvillecommunitynews.co.nz/event/loaded-tough-guy-and-gal-challenge/
LOCATION:Rautawhiti Park\, 124-164 Rautawhiti Road\, Helensville\, New Zealand
END:VEVENT
END:VCALENDAR