BEGIN:VCALENDAR
VERSION:2.0
PRODID:-//Helensville Community News - ECPv4.6.25//NONSGML v1.0//EN
CALSCALE:GREGORIAN
METHOD:PUBLISH
X-WR-CALNAME:Helensville Community News
X-ORIGINAL-URL:https://helensvillecommunitynews.co.nz
X-WR-CALDESC:Events for Helensville Community News
BEGIN:VEVENT
DTSTART;TZID=Pacific/Auckland:20190810T083000
DTEND;TZID=Pacific/Auckland:20190810T120000
DTSTAMP:20260425T200018
CREATED:20190804T215047Z
LAST-MODIFIED:20190804T215047Z
UID:8134-1565425800-1565438400@helensvillecommunitynews.co.nz
SUMMARY:Waitoki Village Market Day
DESCRIPTION:It’s all a BUZZZZ\nHoneybees and beekeeping\, with 15 years’ experience Kim is up with the play and happy to share\, answering questions on bees\, their welfare and food sources. She harvests in small lots so her honey keeps the unique flavours of season and site\, she’ll have some for sale at the market so you can taste our local bounty for yourselves. Linda Backhaus  from Operation Christmas Child is coming to share in the “Joy of Giving” by explaining and showing how easy it is to bring joy to a child this coming Christmas season\, by putting together a shoe box of small gifts to be sent to areas of poverty.\nCome and meet her and other locals at the next Waitoki Market\, chat\, catch up with neighbours\, find out what is going on in your community\, get involved in a friendly\, relaxed atmosphere\, have a massage and pick up baked goods\, plants\, essential oils\, locally crafted gifts\, homemade and preloved bargains\, Bric a Brac\, preserves\, and more at the. Support your community; proceeds from the Market go back to our local community. New stall holders welcome\, contact Gill 420 3301 or email waitokihall@gmail.com\, Next market 12 October \n
URL:https://helensvillecommunitynews.co.nz/event/waitoki-village-market-day-17/
LOCATION:Waitoki Hall\, Kahikatea Flat Road\, Waitoki
CATEGORIES:FREE EVENTS
ORGANIZER;CN="Gill":MAILTO:waitokihall@gmail.com
END:VEVENT
END:VCALENDAR