BEGIN:VCALENDAR
VERSION:2.0
PRODID:-//Helensville Community News - ECPv4.6.25//NONSGML v1.0//EN
CALSCALE:GREGORIAN
METHOD:PUBLISH
X-WR-CALNAME:Helensville Community News
X-ORIGINAL-URL:https://helensvillecommunitynews.co.nz
X-WR-CALDESC:Events for Helensville Community News
BEGIN:VEVENT
DTSTART;TZID=Pacific/Auckland:20190815T100000
DTEND;TZID=Pacific/Auckland:20190815T113000
DTSTAMP:20260425T200116
CREATED:20190804T215255Z
LAST-MODIFIED:20190804T215255Z
UID:8137-1565863200-1565868600@helensvillecommunitynews.co.nz
SUMMARY:Helensville Citizens Advice Bureau Annual General Meeting
DESCRIPTION: \n
URL:https://helensvillecommunitynews.co.nz/event/helensville-citizens-advice-bureau-annual-general-meeting/
LOCATION:Kaipara Memorial RSA\, 49 Commercial Road\, Helensville\, Auckland\, 0874\, New Zealand
CATEGORIES:AGM
ORGANIZER;CN="Helensville%20CAB":MAILTO:helensville@cab.org.nz
END:VEVENT
END:VCALENDAR