BEGIN:VCALENDAR
VERSION:2.0
PRODID:-//Helensville Community News - ECPv4.6.25//NONSGML v1.0//EN
CALSCALE:GREGORIAN
METHOD:PUBLISH
X-WR-CALNAME:Helensville Community News
X-ORIGINAL-URL:https://helensvillecommunitynews.co.nz
X-WR-CALDESC:Events for Helensville Community News
BEGIN:VEVENT
DTSTART;TZID=Pacific/Auckland:20191120T183000
DTEND;TZID=Pacific/Auckland:20191120T193000
DTSTAMP:20260425T152518
CREATED:20191031T230547Z
LAST-MODIFIED:20191031T230547Z
UID:8364-1574274600-1574278200@helensvillecommunitynews.co.nz
SUMMARY:Te Awaroa Residents & Ratepayers Association AGM Change
DESCRIPTION:The AGM is postponed from 30th October to 20th November\, due to a clash of dates. 6.30pm at Helensville War memorial Hall meeting room. All welcome.\nHelensville Police senior sergeant Damian Albert is guest speaker with the opportunity to meet Melissa Haven\, Helensville’s new community constable. Questions welcome. \n
URL:https://helensvillecommunitynews.co.nz/event/te-awaroa-residents-ratepayers-association-agm-change/
LOCATION:Helensville War Memorial Hall – Meeting Room\, 49 Commercial Road\, Helensville\, Auckland\, New Zealand
CATEGORIES:AGM
END:VEVENT
END:VCALENDAR