BEGIN:VCALENDAR
VERSION:2.0
PRODID:-//Helensville Community News - ECPv4.6.25//NONSGML v1.0//EN
CALSCALE:GREGORIAN
METHOD:PUBLISH
X-WR-CALNAME:Helensville Community News
X-ORIGINAL-URL:https://helensvillecommunitynews.co.nz
X-WR-CALDESC:Events for Helensville Community News
BEGIN:VEVENT
DTSTART;TZID=Pacific/Auckland:20191125T200000
DTEND;TZID=Pacific/Auckland:20191125T210000
DTSTAMP:20260425T134141
CREATED:20191031T230432Z
LAST-MODIFIED:20191031T230432Z
UID:8362-1574712000-1574715600@helensvillecommunitynews.co.nz
SUMMARY:Waitoki Public Hall Society Inc. Annual General Meeting
DESCRIPTION:All Welcome - This community asset needs local support\, a great opportunity to be involved in a friendly environment. \n
URL:https://helensvillecommunitynews.co.nz/event/waitoki-public-hall-society-inc-annual-general-meeting/
LOCATION:Waitoki Hall\, Kahikatea Flat Road\, Waitoki
CATEGORIES:AGM
END:VEVENT
END:VCALENDAR