BEGIN:VCALENDAR
VERSION:2.0
PRODID:-//Helensville Community News - ECPv4.6.25//NONSGML v1.0//EN
CALSCALE:GREGORIAN
METHOD:PUBLISH
X-WR-CALNAME:Helensville Community News
X-ORIGINAL-URL:https://helensvillecommunitynews.co.nz
X-WR-CALDESC:Events for Helensville Community News
BEGIN:VEVENT
DTSTART;TZID=Pacific/Auckland:20191201T130000
DTEND;TZID=Pacific/Auckland:20191201T160000
DTSTAMP:20260425T134012
CREATED:20191031T230038Z
LAST-MODIFIED:20191031T230038Z
UID:8349-1575205200-1575216000@helensvillecommunitynews.co.nz
SUMMARY:Kaipara Coast 2020 Sculpture GRAND OPENING
DESCRIPTION:A key attraction of the Kaipara Coast Plant Centre is our beautiful Sculpture Gardens and each year the 40 sculptures\,created by local and overseas artists\, are replaced in December. \nThe objective of the exhibition is to offer a series of visually stimulating and diverse artworks so as to generate an array of human responses in a fun and interactive environment. \nSome of the artists will be available to discuss their works and pieces are also for sale if something really takes your fancy. \nThe opening presentations\, including comment by this year’s curator Shea O’Neill\, will be at 1.30pm with light finger food and soft drinks provided. Plus Ben Bradley\, a very talented local musician\, will be providing the music for the event. \nEach piece is displayed along the 1.2 Km nature trail set in the lovely Kaipara countryside and placed so as to blend sympathetically with its surrounding environment \nThis is a great way for all the family to spend a fun and relaxing afternoon as we also have an extensive kids play area within the gardens. \nThere is also our cute little coffee shop on site plus of course the Plant Centre for you to browse through(including our recently opened veggie section). \nOur knowledgeable and friendly staff will also be on hand to help with any garden related questions. \n*Please note: Trail not suitable for wheelchairs or walking frames. \nTickets: Adults $15\, Children (5-13) $7.50 (under 5;s free) Familys (2A & 3C) $35 Groups (10+) $10. to book 420 5655 or email info@kaiparacoast.co.nz \n
URL:https://helensvillecommunitynews.co.nz/event/kaipara-coast-2020-sculpture-grand-opening/
LOCATION:Kaipara Coast Sculpture Gardens\, 1481 Kaipara Coast Highway\, Kaukapakapa\, New Zealand
END:VEVENT
END:VCALENDAR