BEGIN:VCALENDAR
VERSION:2.0
PRODID:-//Helensville Community News - ECPv4.6.25//NONSGML v1.0//EN
CALSCALE:GREGORIAN
METHOD:PUBLISH
X-WR-CALNAME:Helensville Community News
X-ORIGINAL-URL:https://helensvillecommunitynews.co.nz
X-WR-CALDESC:Events for Helensville Community News
BEGIN:VEVENT
DTSTART;TZID=Pacific/Auckland:20191206T193000
DTEND;TZID=Pacific/Auckland:20191206T210000
DTSTAMP:20260425T133941
CREATED:20191031T230148Z
LAST-MODIFIED:20191031T230148Z
UID:8357-1575660600-1575666000@helensvillecommunitynews.co.nz
SUMMARY:Helensville Aglow
DESCRIPTION:Guest speaker will be Ps Tricia Webb from Inspire Church Albany.  All welcome. Contact Bridget at bibsundgren@outlook.com for more information \n
URL:https://helensvillecommunitynews.co.nz/event/helensville-aglow-24/
LOCATION:Helensville Community Church\, 40 Mill Road\, Helensville\, 0800\, New Zealand
CATEGORIES:FREE EVENTS
END:VEVENT
END:VCALENDAR