BEGIN:VCALENDAR
VERSION:2.0
PRODID:-//Helensville Community News - ECPv4.6.25//NONSGML v1.0//EN
CALSCALE:GREGORIAN
METHOD:PUBLISH
X-WR-CALNAME:Helensville Community News
X-ORIGINAL-URL:https://helensvillecommunitynews.co.nz
X-WR-CALDESC:Events for Helensville Community News
BEGIN:VEVENT
DTSTART;TZID=Pacific/Auckland:20191207T110000
DTEND;TZID=Pacific/Auckland:20191207T133000
DTSTAMP:20260425T134108
CREATED:20191031T231429Z
LAST-MODIFIED:20191031T231429Z
UID:8368-1575716400-1575725400@helensvillecommunitynews.co.nz
SUMMARY:Helensville Christmas Parade
DESCRIPTION:Entries are coming in and plans are well under way for another great parade and family morning out. Volunteers are needed! Please register your availability at Helensville Library. Marshals 11am to 1.30pm. Parade start 9.30am to 1pm. Parade end midday to 2pm. Clowns and fairies 10am to 1.30pm. Creek Lane 9.30am to 1pm. Bouncy castle supervision 9.30am to 1pm.\nApart from marshal and costume roles\, times may be split. Entry forms for parade and for competitions to decorate bikes\, trikes\, scooters\, baby carriages and mobility scooters are available at Helensville Library or via contact email. helchrisfest@gmail.com 021 488 427\nThanks to funding from Lions\, Rotary\, Harcourts\, Unichem Pharmacy\, Des Hawkes\, Ted Phillips\, Andy Cummings\, North West Country and Rodney Local Board. \n
URL:https://helensvillecommunitynews.co.nz/event/helensville-christmas-parade-3/
LOCATION:Helensville\, Helensville\, 0800\, New Zealand
END:VEVENT
END:VCALENDAR