BEGIN:VCALENDAR
VERSION:2.0
PRODID:-//Helensville Community News - ECPv4.6.25//NONSGML v1.0//EN
CALSCALE:GREGORIAN
METHOD:PUBLISH
X-WR-CALNAME:Helensville Community News
X-ORIGINAL-URL:https://helensvillecommunitynews.co.nz
X-WR-CALDESC:Events for Helensville Community News
BEGIN:VEVENT
DTSTART;TZID=Pacific/Auckland:20191225T113000
DTEND;TZID=Pacific/Auckland:20191225T150000
DTSTAMP:20260425T134141
CREATED:20191031T231540Z
LAST-MODIFIED:20191031T231540Z
UID:8370-1577273400-1577286000@helensvillecommunitynews.co.nz
SUMMARY:Helensville Christmas Day Lunch
DESCRIPTION:Which will be held in the War Memorial Hall on Christmas Day\, a gold coin on the day is all that is required. Lunch will be served at 11.30am. Everyone is Welcome.\nExtra family for Christmas?..A recent bereavement or just the thought of Christmas triggers stress?.. come and enjoy Christmas day with the LOCALS in Helensville. Fun\, prizes\, childrens activities..Special theme is the music of ABBA!..Prizes best dressed!.\nPlease register at the Citizens Advice Bureau C.A.B. before 3pm weekdays or Nga Maunga Whakahii before 4.30pm weekdays\, noting any special diets and any transport requirements.\nElves will be needed please the evening of 24th December\, Christmas Day\, and the 26th December. A fun ‘Children’s Activities Co Ordinator’ will also be a great help. Donations/Koha of fresh fruit\, preserves\, canned foods for the food box’s is most appreciated. All elves help please ph or txt Raewyn T. Mercer 0272820470. \n
URL:https://helensvillecommunitynews.co.nz/event/helensville-christmas-day-lunch/
LOCATION:Helensville War Memorial Hall\, 49 Commercial Road\, Helensville\, New Zealand
CATEGORIES:Community Event
END:VEVENT
BEGIN:VEVENT
DTSTART;TZID=Pacific/Auckland:20191225T113000
DTEND;TZID=Pacific/Auckland:20191225T150000
DTSTAMP:20260425T134141
CREATED:20191031T231644Z
LAST-MODIFIED:20191031T231644Z
UID:8372-1577273400-1577286000@helensvillecommunitynews.co.nz
SUMMARY:The Helensville District Community Christmas Day Lunch -
DESCRIPTION:will again be held at Helensville Primary School hall as it has for the last two years. It is again providing an opportunity for anyone to enjoy a festive meal with others in our community. No registration required. Just turn up from 11.30am. Gold coin donations appreciated. Gifts for all children under 13.\nFunding is secured from Lions\, Rotary and Magnify Church. The school is again allowing free use of their great facility. Donations of cash or food most welcome. Volunteers needed. helchrisfest@gmail.com 021 488 427 \n
URL:https://helensvillecommunitynews.co.nz/event/the-helensville-district-community-christmas-day-lunch/
LOCATION:Helensville Primary School Hall\, Garfield Road\, Helensville\, New Zealand
CATEGORIES:FREE EVENTS
END:VEVENT
END:VCALENDAR