BEGIN:VCALENDAR
VERSION:2.0
PRODID:-//Helensville Community News - ECPv4.6.25//NONSGML v1.0//EN
CALSCALE:GREGORIAN
METHOD:PUBLISH
X-WR-CALNAME:Helensville Community News
X-ORIGINAL-URL:https://helensvillecommunitynews.co.nz
X-WR-CALDESC:Events for Helensville Community News
BEGIN:VEVENT
DTSTART;TZID=Pacific/Auckland:20200112T123000
DTEND;TZID=Pacific/Auckland:20200112T153000
DTSTAMP:20260425T120610
CREATED:20191219T210439Z
LAST-MODIFIED:20191219T210439Z
UID:8457-1578832200-1578843000@helensvillecommunitynews.co.nz
SUMMARY:January 2020 Sunday Music in the Gardens
DESCRIPTION:January 12th\, 19th & 26th – 12.30pm to 3.30pm \nDoes spending a Sunday afternoon strolling along our idyllic Sculpture Trail overlooking Kaipara Harbour and then relaxing\, maybe with a picnic\, listening to some pleasant music sound like a great way to spend a summer Sunday?\nIf so\, put these dates into your calendar\, as we will once again be hosting our Sunday afternoon Music in the Gardens events through January.\nThere will be a range of talented young local musicians performing a selection of music with a broad spectrum of appeal.\nThis iconic local attraction has over 40 marvellous new pieces displayed along the beautiful 1 Km nature trail.\nThe trail is constructed of a smooth gravel pathway and meanders through rolling hills passing by a mix of native bush\, wetlands as well as formal gardens and also has some beautiful views of the Kaipara Harbour.*\nThere is also a Petanque area and children’s playground as well as our cute little coffee shop on site plus the Plant Centre for you to browse through.\nA great opportunity for all the family to have a fun and relaxing day in the countryside and we’re only a few minutes’ drive North of Kaukapakapa (and around 35 minutes from downtown Auckland).\nOur knowledgeable and friendly staff will also be on hand to help with any garden related questions. \n* Trail not suitable for wheelchairs or walking frames. \nVenue location: 1481 Kaipara Coast Highway (SH16)\,\nTickets: $15.00 per person\nTo Book: info@kaiparacoast.co.nz OR 09 420 5655. \n
URL:https://helensvillecommunitynews.co.nz/event/january-2020-sunday-music-in-the-gardens/
LOCATION:Kaipara Coast Sculpture Gardens\, 1481 Kaipara Coast Highway\, Kaukapakapa\, New Zealand
CATEGORIES:Music
END:VEVENT
END:VCALENDAR