BEGIN:VCALENDAR
VERSION:2.0
PRODID:-//Helensville Community News - ECPv4.6.25//NONSGML v1.0//EN
CALSCALE:GREGORIAN
METHOD:PUBLISH
X-WR-CALNAME:Helensville Community News
X-ORIGINAL-URL:https://helensvillecommunitynews.co.nz
X-WR-CALDESC:Events for Helensville Community News
BEGIN:VEVENT
DTSTART;TZID=Pacific/Auckland:20200219T090000
DTEND;TZID=Pacific/Auckland:20200219T170000
DTSTAMP:20260425T104837
CREATED:20200114T235504Z
LAST-MODIFIED:20200114T235504Z
UID:8522-1582102800-1582131600@helensvillecommunitynews.co.nz
SUMMARY:First Aid Course
DESCRIPTION:If you happened across a medical emergency would you know what to do? \nIf asked that question most of us would probably\, at the very least\, be unsure of our competency in such an event. \nWhether in the home\, garden\, driving the car or at work there is a continual possibility of accidents happening or someone becoming unwell. The speed of response can significantly improve outcomes for the patient particularly if the first responder has some sound basic knowledge of what to do. \nIf you would like to be able to answer a confident yes to this question Kaipara Coast will be running an all-day First Aid Course in February (note it’s a Wednesday) where you will learn: \n \n\nActions to take at the scene of a medical emergency\nFirst aid priorities\nFirst aid techniques\nPerformance of CPR\nOperation of an Auto Defibrillator\n\nAt the successful completion of the course you will receive a course certificate which is valid for 2 years. \nTea\, coffee and a light lunch will be supplied by Kaipara Coast. \nIf you would like to either achieve this training for the first time or maybe refresh the knowledge you already possess please book your place as soon as possible as numbers are extremely limited. Please see below for cost and booking contact info. \n
URL:https://helensvillecommunitynews.co.nz/event/first-aid-course/
LOCATION:Kaipara Coast Sculpture Gardens\, 1481 Kaipara Coast Highway\, Kaukapakapa\, New Zealand
CATEGORIES:Course
END:VEVENT
END:VCALENDAR