BEGIN:VCALENDAR
VERSION:2.0
PRODID:-//Helensville Community News - ECPv4.6.25//NONSGML v1.0//EN
CALSCALE:GREGORIAN
METHOD:PUBLISH
X-WR-CALNAME:Helensville Community News
X-ORIGINAL-URL:https://helensvillecommunitynews.co.nz
X-WR-CALDESC:Events for Helensville Community News
BEGIN:VEVENT
DTSTART;TZID=Pacific/Auckland:20221005T193000
DTEND;TZID=Pacific/Auckland:20221005T210000
DTSTAMP:20260426T010751
CREATED:20220922T224518Z
LAST-MODIFIED:20220922T224637Z
UID:10153-1664998200-1665003600@helensvillecommunitynews.co.nz
SUMMARY:Believe It Or Not Quiz Night
DESCRIPTION:Bistro and Bar open from 5.30pm at club prices. Visitors welcome. \n
URL:https://helensvillecommunitynews.co.nz/event/believe-it-or-not-quiz-night/
LOCATION:Waimauku RSA\, 891 State Highway 16\, Waimauku\, 0812\, New Zealand
CATEGORIES:Quiz Night
END:VEVENT
END:VCALENDAR