BEGIN:VCALENDAR
VERSION:2.0
PRODID:-//Helensville Community News - ECPv4.6.25//NONSGML v1.0//EN
CALSCALE:GREGORIAN
METHOD:PUBLISH
X-WR-CALNAME:Helensville Community News
X-ORIGINAL-URL:https://helensvillecommunitynews.co.nz
X-WR-CALDESC:Events for Helensville Community News
BEGIN:VEVENT
DTSTART;TZID=Pacific/Auckland:20221015T100000
DTEND;TZID=Pacific/Auckland:20221015T150000
DTSTAMP:20260426T012200
CREATED:20220923T000849Z
LAST-MODIFIED:20220923T001311Z
UID:10160-1665828000-1665846000@helensvillecommunitynews.co.nz
SUMMARY:Big\, Little\, Local
DESCRIPTION:Family friendly event to showcase our local service providers and businesses with music\, food\, giveaways\, raffles and more.  Everyone Welcome! \n
URL:https://helensvillecommunitynews.co.nz/event/big-little-local/
LOCATION:Rautawhiti Park\, 124-164 Rautawhiti Road\, Helensville\, New Zealand
CATEGORIES:Community Event,FREE EVENTS
ORGANIZER;CN="Harcourts%20Helensville":MAILTO:helensville@harcourts.co.nz
END:VEVENT
BEGIN:VEVENT
DTSTART;TZID=Pacific/Auckland:20221015T163000
DTEND;TZID=Pacific/Auckland:20221015T200000
DTSTAMP:20260426T012200
CREATED:20220923T001957Z
LAST-MODIFIED:20220923T001957Z
UID:10164-1665851400-1665864000@helensvillecommunitynews.co.nz
SUMMARY:Waitoki - Meet the Neighbours
DESCRIPTION:The Waitoki Hall Committee invites the local community to join us for a Meet the Neighbour evening at the Community Hall.  It’s been a long time between drinks so bring your family & your dinner and come and catch up with the neighbours.  Kickoff from 4.30pm \n
URL:https://helensvillecommunitynews.co.nz/event/waitoki-meet-the-neighbours/
LOCATION:Waitoki Hall\, Kahikatea Flat Road\, Waitoki
CATEGORIES:Community Event,FREE EVENTS
END:VEVENT
END:VCALENDAR