BEGIN:VCALENDAR
VERSION:2.0
PRODID:-//Helensville Community News - ECPv4.6.25//NONSGML v1.0//EN
CALSCALE:GREGORIAN
METHOD:PUBLISH
X-WR-CALNAME:Helensville Community News
X-ORIGINAL-URL:https://helensvillecommunitynews.co.nz
X-WR-CALDESC:Events for Helensville Community News
BEGIN:VEVENT
DTSTART;TZID=Pacific/Auckland:20221022T100000
DTEND;TZID=Pacific/Auckland:20221024T160000
DTSTAMP:20260426T012008
CREATED:20220923T004648Z
LAST-MODIFIED:20221016T232454Z
UID:10168-1666432800-1666627200@helensvillecommunitynews.co.nz
SUMMARY:ARTS in the VILLE 2022
DESCRIPTION:Now in it’s 8th year! ARTS in the VILLE is an annual festival and art trail held over Labour Weekend that celebrates the many local artists in the area. Come and take advantage of this great opportunity to view\, discuss and purchase art pieces from a huge range of artists across many different venues. These include open studios\, venues and other pop-up spaces which will be marked clearly\, and can be found on the map provided from this website as a download\, or on-site in Helensville during the festival weekend.  From 10 – 4pm each day (Saturday\, Sunday and Monday)\, Helensville will be buzzing with visitors taking advantage of the vibrant display of art. Join in and you’ll experience a variety of media from sculpture\, embroidery\, painting\, pottery\, ceramic\, etchings\, glasswork\, millinery\, repurposed mixed media and engineered creations\, for both your indoor and outdoor spaces. In many cases you will have the opportunity to meet the artist in their studio\, discuss pieces with them\, and sometimes see them at work. Most pieces will be for sale (see FAQs page for more info). \nThe Visual Treasure Hunt is a highlight of the long weekend\, with a stunning prize donated by well-respected\, New Zealand sculptor Jeff Thomson\, whose studio is located in the heart of Helensville. \n
URL:https://helensvillecommunitynews.co.nz/event/arts-in-the-ville-2022/
LOCATION:Helensville
CATEGORIES:Art Show / Exhibition,Community Event,FREE EVENTS
END:VEVENT
END:VCALENDAR