BEGIN:VCALENDAR
VERSION:2.0
PRODID:-//Helensville Community News - ECPv4.6.25//NONSGML v1.0//EN
CALSCALE:GREGORIAN
METHOD:PUBLISH
X-WR-CALNAME:Helensville Community News
X-ORIGINAL-URL:https://helensvillecommunitynews.co.nz
X-WR-CALDESC:Events for Helensville Community News
BEGIN:VEVENT
DTSTART;TZID=Pacific/Auckland:20221028T160000
DTEND;TZID=Pacific/Auckland:20221028T193000
DTSTAMP:20260426T010751
CREATED:20220923T004825Z
LAST-MODIFIED:20220923T004825Z
UID:10171-1666972800-1666985400@helensvillecommunitynews.co.nz
SUMMARY:Helensville Primary School Ag Day
DESCRIPTION:After 2 years of disrupted Ag Day events due to our pandemic\, Helensville Primary School are very excited to announce that we will be back together to celebrate our: - budding farmers - keen agriculturists - craft enthusiasts - food lovers and everyone who just wants to have a little fun.  There will be plenty of games\, music\, performances and food to satisfy everyone. Come along\, we would love to see you all there. \n
URL:https://helensvillecommunitynews.co.nz/event/helensville-primary-school-ag-day-2/
LOCATION:Helensville Primary School\, 29 Rata Street\, Helensville\, New Zealand
CATEGORIES:School Ag Day
END:VEVENT
BEGIN:VEVENT
DTSTART;TZID=Pacific/Auckland:20221028T170000
DTEND;TZID=Pacific/Auckland:20221028T223000
DTSTAMP:20260426T010751
CREATED:20220923T005052Z
LAST-MODIFIED:20220923T005225Z
UID:10173-1666976400-1666996200@helensvillecommunitynews.co.nz
SUMMARY:Monster Fireworks Display
DESCRIPTION:After a two-year break\, the Monster Fireworks Display is back\, bigger and better than ever! \nThe event is organized by the Taupaki School PTA\, supported by Bad boy fireworks and Mike Pero Real Estate\, and kicks off with food trucks\, entertainment\, rides and stalls. \nAs the sun sets\, Bad Boy fireworks take centre stage for a display they say will “bring the heat big time!!” \nThe Monster Fireworks Display has been running for an amazing 35 years. \nIt began as a fundraiser for Taupaki school but grew into a key event on the community calendar. More than just a fun night out\, it’s a special opportunity to gather with friends and neighbours. \nThe night comes together thanks to incredible work from the local community. Every stall\, gate and stand is run by parents from Taupaki School\, with some support from professionals. Local businesses have donated thousands of dollars’ worth of products and vouchers to raffle off with more being added every day – including a three-night Queenstown holiday worth over $1500. \nAnd an amazing food truck selection will roll in to keep the crowds are happy\, with a huge range of cuisines and treats. \nThe 2022 event is sure to be a fantastic evening. \nIt’s a chance to enjoy some time with family and friends and watch a stunning fireworks display - while helping raise funds for Taupaki School. \n
URL:https://helensvillecommunitynews.co.nz/event/monster-fireworks-display/
LOCATION:Kumeu Showgrounds\, Access Road\, Auckland\, New Zealand
CATEGORIES:Fundraiser
END:VEVENT
END:VCALENDAR