BEGIN:VCALENDAR
VERSION:2.0
PRODID:-//Helensville Community News - ECPv4.6.25//NONSGML v1.0//EN
CALSCALE:GREGORIAN
METHOD:PUBLISH
X-WR-CALNAME:Helensville Community News
X-ORIGINAL-URL:https://helensvillecommunitynews.co.nz
X-WR-CALDESC:Events for Helensville Community News
BEGIN:VEVENT
DTSTART;TZID=Pacific/Auckland:20221105T100000
DTEND;TZID=Pacific/Auckland:20221106T160000
DTSTAMP:20260426T012008
CREATED:20221016T233056Z
LAST-MODIFIED:20221016T233056Z
UID:10265-1667642400-1667750400@helensvillecommunitynews.co.nz
SUMMARY:Muriwai Arts Trail
DESCRIPTION:Muriwai Beach is a wild\, wonderful west coast community\, located just 40 minutes from Auckland’s CBD. Known for its sweeping black sand beach\, excellent surf conditions and spectacular cliff-top gannet colony\, this spot is also home to a group of well-known\, diverse and highly gifted artists. \nWe are a group of Muriwai artists (many award winning) - our aim as individuals and a group is to inspire and nurture creativity in the community by providing workshops\, exhibitions\, open studio visits and unique experiences such as art degustation. \nAs a collective\, we are all clearly inspired by the rugged coastal environment in which we live – Muriwai Beach. As individuals we also have our own unique creative processes and fascinating forms of expression. \nOur artists are Tanya Blong\, Laetitia Decan\, Lesley Dixon\, Karuna Douglas\, Todd Douglas\, Gaylene Earl\, Emma Farry\, Mette Hay\, Pat Henley\, Joss Hong\, Liz Smith\, Kirsten Reid\, Christine Rose\, Lily Weeds\, Catrina Lloyd\, Mike Davison\, Michelle Grayson and include painters\, potters\, photographers\, illustrators\, sculptors\, poets\, mixed media\, jewellery\, textile and embroidery artists. \nWorking together we wish to provide greater access to the arts across a variety of medium. We welcome new members\, to join this group. You must have an open studio based at Muriwai Beach. Shared studios are also an option. \nWhether you want to buy\, be inspired\, learn or simply ‘step out of the ordinary’ and enjoy time out\, get along to one of our exhibitions\, open studio days\, workshops or art experiences. \n  \n
URL:https://helensvillecommunitynews.co.nz/event/muriwai-arts-trail/
LOCATION:Muriwai
END:VEVENT
END:VCALENDAR