BEGIN:VCALENDAR
VERSION:2.0
PRODID:-//Helensville Community News - ECPv4.6.25//NONSGML v1.0//EN
CALSCALE:GREGORIAN
METHOD:PUBLISH
X-WR-CALNAME:Helensville Community News
X-ORIGINAL-URL:https://helensvillecommunitynews.co.nz
X-WR-CALDESC:Events for Helensville Community News
BEGIN:VEVENT
DTSTART;TZID=Pacific/Auckland:20221111T110000
DTEND;TZID=Pacific/Auckland:20221111T110000
DTSTAMP:20260426T025724
CREATED:20221005T034558Z
LAST-MODIFIED:20221005T034605Z
UID:10254-1668164400-1668164400@helensvillecommunitynews.co.nz
SUMMARY:Armistice Day
DESCRIPTION:Veterans\, RSA members and the public are encouraged to attend. Medals should be worn\, if wearing relative’s medals\, wear them on your right chest and wear them with pride.  This will be the last day of trading \n
URL:https://helensvillecommunitynews.co.nz/event/armistice-day/
LOCATION:Helensville RSA Bar & Restaurant\, 49 Commercial Road\, Helensville\, New Zealand
CATEGORIES:Community Event
END:VEVENT
END:VCALENDAR