BEGIN:VCALENDAR
VERSION:2.0
PRODID:-//Helensville Community News - ECPv4.6.25//NONSGML v1.0//EN
CALSCALE:GREGORIAN
METHOD:PUBLISH
X-WR-CALNAME:Helensville Community News
X-ORIGINAL-URL:https://helensvillecommunitynews.co.nz
X-WR-CALDESC:Events for Helensville Community News
BEGIN:VEVENT
DTSTART;VALUE=DATE:20240419
DTEND;VALUE=DATE:20240420
DTSTAMP:20260426T040006
CREATED:20240408T021831Z
LAST-MODIFIED:20240408T021831Z
UID:11575-1713484800-1713571199@helensvillecommunitynews.co.nz
SUMMARY:Annual Poppy appeal 2024
DESCRIPTION:Our volunteers will be out in force. Additionally the Poppy boxes will be available at the Helensville\, Parakai and Kaukapakapa retail stores in early April\, along with a QR Code\, enabling you to make an early donation using your Smart phone or make a cash donation. A tax receipt can also be requested for your tax return donations using the QR Code\, all donations go to the KMRSA Welfare Fund. \nAny volunteers who can help with the Poppy Appeal on Friday 19th April can contact Steve Wilson 021 494 945 or email kaipararsa@xtra.co.nz  Poppy collection sites are Parakai Four Square\, Helensville Chemist\, Paper Plus\, Helensville Bakery\, Countdown and the KKK Store\, where we need a replacement for Eddie Barwell who passed away recently. \n
URL:https://helensvillecommunitynews.co.nz/event/annual-poppy-appeal-2024/
CATEGORIES:Fundraiser
END:VEVENT
END:VCALENDAR